BEGIN:VCALENDAR
VERSION:2.0
PRODID:-//Remembering Rebecca - ECPv6.2.8.1//NONSGML v1.0//EN
CALSCALE:GREGORIAN
METHOD:PUBLISH
X-WR-CALNAME:Remembering Rebecca
X-ORIGINAL-URL:https://www.rememberingrebecca.co.uk
X-WR-CALDESC:Events for Remembering Rebecca
REFRESH-INTERVAL;VALUE=DURATION:PT1H
X-Robots-Tag:noindex
X-PUBLISHED-TTL:PT1H
BEGIN:VTIMEZONE
TZID:UTC
BEGIN:STANDARD
TZOFFSETFROM:+0000
TZOFFSETTO:+0000
TZNAME:UTC
DTSTART:20220101T000000
END:STANDARD
END:VTIMEZONE
BEGIN:VEVENT
DTSTART;TZID=UTC:20221008T183000
DTEND;TZID=UTC:20221008T183000
DTSTAMP:20260423T211841
CREATED:20220929T135232Z
LAST-MODIFIED:20220929T151411Z
UID:1304-1665253800-1665253800@www.rememberingrebecca.co.uk
SUMMARY:Remembering Rebecca Annual Ball 2022
DESCRIPTION:Saturday 8th October \nHardwick Hall Hotel \n630pm
URL:https://www.rememberingrebecca.co.uk/event/remembering-rebecca-annual-ball-2022/
LOCATION:Hardwick Hall Hotel\, Sedgefield\, Stockton on Tees\, TS21 2EH\, United Kingdom
END:VEVENT
BEGIN:VEVENT
DTSTART;TZID=UTC:20221028T150000
DTEND;TZID=UTC:20221028T180000
DTSTAMP:20260423T211841
CREATED:20220929T151713Z
LAST-MODIFIED:20220929T151947Z
UID:1329-1666969200-1666980000@www.rememberingrebecca.co.uk
SUMMARY:Children's Halloween Party    Friday 28th October    3pm-6pm
DESCRIPTION:Childrens Halloween Party \n3pm-6pm \nHot food included \nFun Games \nCake Stall \nRaffle
URL:https://www.rememberingrebecca.co.uk/event/childrens-halloween-party-3/
LOCATION:Thornaby Sports And Social Club Tedder Avenue Thornaby\, United Kingdom
END:VEVENT
END:VCALENDAR